BEGIN:VCALENDAR
VERSION:2.0
PRODID:-//The Kim Pagano Show - ECPv6.15.20//NONSGML v1.0//EN
CALSCALE:GREGORIAN
METHOD:PUBLISH
X-WR-CALNAME:The Kim Pagano Show
X-ORIGINAL-URL:https://kimpaganoshow.com
X-WR-CALDESC:Events for The Kim Pagano Show
REFRESH-INTERVAL;VALUE=DURATION:PT1H
X-Robots-Tag:noindex
X-PUBLISHED-TTL:PT1H
BEGIN:VTIMEZONE
TZID:America/Los_Angeles
BEGIN:DAYLIGHT
TZOFFSETFROM:-0800
TZOFFSETTO:-0700
TZNAME:PDT
DTSTART:20250309T100000
END:DAYLIGHT
BEGIN:STANDARD
TZOFFSETFROM:-0700
TZOFFSETTO:-0800
TZNAME:PST
DTSTART:20251102T090000
END:STANDARD
BEGIN:DAYLIGHT
TZOFFSETFROM:-0800
TZOFFSETTO:-0700
TZNAME:PDT
DTSTART:20260308T100000
END:DAYLIGHT
BEGIN:STANDARD
TZOFFSETFROM:-0700
TZOFFSETTO:-0800
TZNAME:PST
DTSTART:20261101T090000
END:STANDARD
BEGIN:DAYLIGHT
TZOFFSETFROM:-0800
TZOFFSETTO:-0700
TZNAME:PDT
DTSTART:20270314T100000
END:DAYLIGHT
BEGIN:STANDARD
TZOFFSETFROM:-0700
TZOFFSETTO:-0800
TZNAME:PST
DTSTART:20271107T090000
END:STANDARD
END:VTIMEZONE
BEGIN:VEVENT
DTSTART;TZID=America/Los_Angeles:20260503T120000
DTEND;TZID=America/Los_Angeles:20260503T170000
DTSTAMP:20260422T230609
CREATED:20260420T232757Z
LAST-MODIFIED:20260420T232903Z
UID:11912-1777809600-1777827600@kimpaganoshow.com
SUMMARY:Thousand Oaks Chili Cook Off
DESCRIPTION:The 49th Annual Thousand Oaks Chili Cook Off\, Car Show and Craft Brew Festival \nMay 3\, 2026\, 12pm – 5pm (VIP 11am – 12pm).  \nAdmission is $25 or Kids 10 and under are FREE! Chili is included until it’s gone! Chili tastings end at 3pm for judging. \nClick or tap for the event flyer (PDF opens in a new tab or window) \nGet Tickets and Directions at the link below:
URL:https://kimpaganoshow.com/805-events/thousand-oaks-chili-cook-off-2026/
LOCATION:Conejo Creek North\, 1379 E. Janss Rd\, Thousand Oaks\, 91362
ATTACH;FMTTYPE=image/jpeg:https://kimpaganoshow.com/newkps/wp-content/uploads/Chili-Cook-off-Flyer-2026.jpg
END:VEVENT
END:VCALENDAR